BEGIN:VCALENDAR
VERSION:2.0
PRODID:-//Djavad Mowafaghian Centre for Brain Health | DMCBH - ECPv6.15.18//NONSGML v1.0//EN
CALSCALE:GREGORIAN
METHOD:PUBLISH
X-WR-CALNAME:Djavad Mowafaghian Centre for Brain Health | DMCBH
X-ORIGINAL-URL:https://www.centreforbrainhealth.ca
X-WR-CALDESC:Events for Djavad Mowafaghian Centre for Brain Health | DMCBH
REFRESH-INTERVAL;VALUE=DURATION:PT1H
X-Robots-Tag:noindex
X-PUBLISHED-TTL:PT1H
BEGIN:VTIMEZONE
TZID:America/Vancouver
BEGIN:DAYLIGHT
TZOFFSETFROM:-0800
TZOFFSETTO:-0700
TZNAME:PDT
DTSTART:20140309T100000
END:DAYLIGHT
BEGIN:STANDARD
TZOFFSETFROM:-0700
TZOFFSETTO:-0800
TZNAME:PST
DTSTART:20141102T090000
END:STANDARD
BEGIN:DAYLIGHT
TZOFFSETFROM:-0800
TZOFFSETTO:-0700
TZNAME:PDT
DTSTART:20150308T100000
END:DAYLIGHT
BEGIN:STANDARD
TZOFFSETFROM:-0700
TZOFFSETTO:-0800
TZNAME:PST
DTSTART:20151101T090000
END:STANDARD
BEGIN:DAYLIGHT
TZOFFSETFROM:-0800
TZOFFSETTO:-0700
TZNAME:PDT
DTSTART:20160313T100000
END:DAYLIGHT
BEGIN:STANDARD
TZOFFSETFROM:-0700
TZOFFSETTO:-0800
TZNAME:PST
DTSTART:20161106T090000
END:STANDARD
BEGIN:DAYLIGHT
TZOFFSETFROM:-0800
TZOFFSETTO:-0700
TZNAME:PDT
DTSTART:20170312T100000
END:DAYLIGHT
BEGIN:STANDARD
TZOFFSETFROM:-0700
TZOFFSETTO:-0800
TZNAME:PST
DTSTART:20171105T090000
END:STANDARD
END:VTIMEZONE
BEGIN:VEVENT
DTSTART;TZID=America/Vancouver:20161025T173000
DTEND;TZID=America/Vancouver:20161025T193000
DTSTAMP:20260421T083311
CREATED:20211026T222227Z
LAST-MODIFIED:20211106T050723Z
UID:7401-1477416600-1477423800@www.centreforbrainhealth.ca
SUMMARY:Dr. Greg Dunn: Self Reflected
DESCRIPTION:DMCBH and Dr. Brian MacVicar are thrilled to host a talk from renowned artist and speaker Dr. Greg Dunn for Self Reflected: The artistic story behind the world’s most complex artistic depiction of the human brain. We hope you’ll join us for a talk that promises to cross disciplines and inspire scientists and artists alike. Reception to follow. RSVP to attend. \nSPEAKER BIO:\nGreg Dunn is an artist who received his PhD in neuroscience from the University of Pennsylvania in 2011. While a graduate student\, Dunn’s artistic experiments demonstrated that the qualities of neural forms fit seamlessly into the aesthetic principles of minimalist Asian art and sumi-e scroll and gold leaf painting. Dunn is now a full time artist out of Philadelphia where he works to incorporate his knowledge of neuroscience\, physics\, and biology into the artistic process through both imagery and technique. \nTogether with Dr. Brian Edwards\, a collaborating artist and electrical engineer\, Greg invented a revolutionary technique called reflective microetching that allows dynamic control of imagery and color in reflective gold surfaces. This work has led to the awarding of a grant from the National Science Foundation to produce an enormous 8’ X 12’ microetching of the human brain\, the most complex and detailed artistic piece on the brain that will exist in the world. Dunn and Edwards are currently working on this massive project with the help of neuroscience and fine art students that is expected to be completed and permanently hanging in the Franklin Institute in Philadelphia in Spring 2016. \nwww.gregadunn.com
URL:https://www.centreforbrainhealth.ca/events/dr-greg-dunn-self-reflected/
LOCATION:Rudy North Lecture Theatre\, Djavad Mowafaghian Centre for Brain Health\, 2215 Wesbrook Mall\, Vancouver\, British Columbia\, V6T 1Z3\, Canada
END:VEVENT
BEGIN:VEVENT
DTSTART;VALUE=DATE:20150918
DTEND;VALUE=DATE:20150919
DTSTAMP:20260421T083311
CREATED:20211026T221356Z
LAST-MODIFIED:20211106T050748Z
UID:7397-1442534400-1442620799@www.centreforbrainhealth.ca
SUMMARY:9th Annual Pacific Psychopharmacology Conference
DESCRIPTION:Target audience: Psychiatrists\, pharmacists\, primary care physicians\, psychologists\, nurses\, social workers. \nUp to 5.75 Mainpro-M1/MOC Section 1 credits \n(This conference will also be accredited for CCCEP.) \nPlease contact UBC CPD for more information at cpd.info@ubc.ca. \nPhone: 604-875-5101\nWebsite: ubccpd.ca
URL:https://www.centreforbrainhealth.ca/events/9th-annual-pacific-psychopharmacology-conference/
LOCATION:Executive Plaza Hotel & Conference Centre\, Coquitlam\, BC
END:VEVENT
END:VCALENDAR