BEGIN:VCALENDAR
VERSION:2.0
PRODID:-//Djavad Mowafaghian Centre for Brain Health | DMCBH - ECPv6.15.18//NONSGML v1.0//EN
CALSCALE:GREGORIAN
METHOD:PUBLISH
X-WR-CALNAME:Djavad Mowafaghian Centre for Brain Health | DMCBH
X-ORIGINAL-URL:https://www.centreforbrainhealth.ca
X-WR-CALDESC:Events for Djavad Mowafaghian Centre for Brain Health | DMCBH
REFRESH-INTERVAL;VALUE=DURATION:PT1H
X-Robots-Tag:noindex
X-PUBLISHED-TTL:PT1H
BEGIN:VTIMEZONE
TZID:America/Vancouver
BEGIN:DAYLIGHT
TZOFFSETFROM:-0800
TZOFFSETTO:-0700
TZNAME:PDT
DTSTART:20250309T100000
END:DAYLIGHT
BEGIN:STANDARD
TZOFFSETFROM:-0700
TZOFFSETTO:-0800
TZNAME:PST
DTSTART:20251102T090000
END:STANDARD
BEGIN:DAYLIGHT
TZOFFSETFROM:-0800
TZOFFSETTO:-0700
TZNAME:PDT
DTSTART:20260308T100000
END:DAYLIGHT
BEGIN:STANDARD
TZOFFSETFROM:-0700
TZOFFSETTO:-0800
TZNAME:PST
DTSTART:20261101T090000
END:STANDARD
BEGIN:DAYLIGHT
TZOFFSETFROM:-0800
TZOFFSETTO:-0700
TZNAME:PDT
DTSTART:20270314T100000
END:DAYLIGHT
BEGIN:STANDARD
TZOFFSETFROM:-0700
TZOFFSETTO:-0800
TZNAME:PST
DTSTART:20271107T090000
END:STANDARD
END:VTIMEZONE
BEGIN:VEVENT
DTSTART;TZID=America/Vancouver:20260424T110000
DTEND;TZID=America/Vancouver:20260424T120000
DTSTAMP:20260419T175621
CREATED:20260323T164917Z
LAST-MODIFIED:20260324T172554Z
UID:17592-1777028400-1777032000@www.centreforbrainhealth.ca
SUMMARY:Dr. Mypinder Sekhon: Characterizing The Human Dying Process for translational insights into in vivo Brain Ischemia
DESCRIPTION:The talk will undertake an overview of the physiology of the human dying process as an in vivo model of brain ischemia physiology. The talk will cover the feasibility of undertaking this work at VGH and the characterization of the physiology of circulatory arrest in humans. Additionally\, I will describe preliminary insights into the changes of the proteome and metabolome of the human brain during brain ischemia and use of whole brain autopsies for insights into disease mechanisms.
URL:https://www.centreforbrainhealth.ca/events/dr-mypinder-sekhon/
LOCATION:Rudy North Lecture Theatre\, Djavad Mowafaghian Centre for Brain Health\, 2215 Wesbrook Mall\, Vancouver\, British Columbia\, V6T 1Z3\, Canada
CATEGORIES:Neuroscience Research Colloquium
END:VEVENT
END:VCALENDAR