BEGIN:VCALENDAR
VERSION:2.0
PRODID:-//Djavad Mowafaghian Centre for Brain Health | DMCBH - ECPv6.15.18//NONSGML v1.0//EN
CALSCALE:GREGORIAN
METHOD:PUBLISH
X-WR-CALNAME:Djavad Mowafaghian Centre for Brain Health | DMCBH
X-ORIGINAL-URL:https://www.centreforbrainhealth.ca
X-WR-CALDESC:Events for Djavad Mowafaghian Centre for Brain Health | DMCBH
REFRESH-INTERVAL;VALUE=DURATION:PT1H
X-Robots-Tag:noindex
X-PUBLISHED-TTL:PT1H
BEGIN:VTIMEZONE
TZID:America/Vancouver
BEGIN:DAYLIGHT
TZOFFSETFROM:-0800
TZOFFSETTO:-0700
TZNAME:PDT
DTSTART:20250309T100000
END:DAYLIGHT
BEGIN:STANDARD
TZOFFSETFROM:-0700
TZOFFSETTO:-0800
TZNAME:PST
DTSTART:20251102T090000
END:STANDARD
BEGIN:DAYLIGHT
TZOFFSETFROM:-0800
TZOFFSETTO:-0700
TZNAME:PDT
DTSTART:20260308T100000
END:DAYLIGHT
BEGIN:STANDARD
TZOFFSETFROM:-0700
TZOFFSETTO:-0800
TZNAME:PST
DTSTART:20261101T090000
END:STANDARD
BEGIN:DAYLIGHT
TZOFFSETFROM:-0800
TZOFFSETTO:-0700
TZNAME:PDT
DTSTART:20270314T100000
END:DAYLIGHT
BEGIN:STANDARD
TZOFFSETFROM:-0700
TZOFFSETTO:-0800
TZNAME:PST
DTSTART:20271107T090000
END:STANDARD
END:VTIMEZONE
BEGIN:VEVENT
DTSTART;TZID=America/Vancouver:20261002T110000
DTEND;TZID=America/Vancouver:20261002T120000
DTSTAMP:20260419T002241
CREATED:20260326T202914Z
LAST-MODIFIED:20260326T202914Z
UID:17659-1790938800-1790942400@www.centreforbrainhealth.ca
SUMMARY:Dr. Deblina Sarkar
DESCRIPTION:
URL:https://www.centreforbrainhealth.ca/events/dr-deblina-sarkar/
LOCATION:Rudy North Lecture Theatre\, Djavad Mowafaghian Centre for Brain Health\, 2215 Wesbrook Mall\, Vancouver\, British Columbia\, V6T 1Z3\, Canada
CATEGORIES:Neuroscience Research Colloquium
END:VEVENT
BEGIN:VEVENT
DTSTART;TZID=America/Vancouver:20261019T110000
DTEND;TZID=America/Vancouver:20261019T120000
DTSTAMP:20260419T002241
CREATED:20260211T175922Z
LAST-MODIFIED:20260311T205305Z
UID:17396-1792407600-1792411200@www.centreforbrainhealth.ca
SUMMARY:Dr. Yulong Li
DESCRIPTION:
URL:https://www.centreforbrainhealth.ca/events/dr-yulong-li/
LOCATION:Rudy North Lecture Theatre\, Djavad Mowafaghian Centre for Brain Health\, 2215 Wesbrook Mall\, Vancouver\, British Columbia\, V6T 1Z3\, Canada
CATEGORIES:Neuroscience Research Colloquium
END:VEVENT
BEGIN:VEVENT
DTSTART;TZID=America/Vancouver:20261023T110000
DTEND;TZID=America/Vancouver:20261023T120000
DTSTAMP:20260419T002241
CREATED:20260326T204056Z
LAST-MODIFIED:20260326T204056Z
UID:17669-1792753200-1792756800@www.centreforbrainhealth.ca
SUMMARY:Dr. Michael J. Strong
DESCRIPTION:
URL:https://www.centreforbrainhealth.ca/events/dr-michael-j-strong/
LOCATION:Rudy North Lecture Theatre\, Djavad Mowafaghian Centre for Brain Health\, 2215 Wesbrook Mall\, Vancouver\, British Columbia\, V6T 1Z3\, Canada
CATEGORIES:Neuroscience Research Colloquium
END:VEVENT
BEGIN:VEVENT
DTSTART;TZID=America/Vancouver:20261030T110000
DTEND;TZID=America/Vancouver:20261030T120000
DTSTAMP:20260419T002241
CREATED:20260326T203619Z
LAST-MODIFIED:20260326T203630Z
UID:17665-1793358000-1793361600@www.centreforbrainhealth.ca
SUMMARY:Dr. Adrien Peyrache
DESCRIPTION:
URL:https://www.centreforbrainhealth.ca/events/dr-adrien-peyrache/
LOCATION:Rudy North Lecture Theatre\, Djavad Mowafaghian Centre for Brain Health\, 2215 Wesbrook Mall\, Vancouver\, British Columbia\, V6T 1Z3\, Canada
CATEGORIES:Neuroscience Research Colloquium
END:VEVENT
END:VCALENDAR