BEGIN:VCALENDAR
VERSION:2.0
PRODID:-//Djavad Mowafaghian Centre for Brain Health | DMCBH - ECPv6.15.18//NONSGML v1.0//EN
CALSCALE:GREGORIAN
METHOD:PUBLISH
X-WR-CALNAME:Djavad Mowafaghian Centre for Brain Health | DMCBH
X-ORIGINAL-URL:https://www.centreforbrainhealth.ca
X-WR-CALDESC:Events for Djavad Mowafaghian Centre for Brain Health | DMCBH
REFRESH-INTERVAL;VALUE=DURATION:PT1H
X-Robots-Tag:noindex
X-PUBLISHED-TTL:PT1H
BEGIN:VTIMEZONE
TZID:America/Vancouver
BEGIN:DAYLIGHT
TZOFFSETFROM:-0800
TZOFFSETTO:-0700
TZNAME:PDT
DTSTART:20250309T100000
END:DAYLIGHT
BEGIN:STANDARD
TZOFFSETFROM:-0700
TZOFFSETTO:-0800
TZNAME:PST
DTSTART:20251102T090000
END:STANDARD
BEGIN:DAYLIGHT
TZOFFSETFROM:-0800
TZOFFSETTO:-0700
TZNAME:PDT
DTSTART:20260308T100000
END:DAYLIGHT
BEGIN:STANDARD
TZOFFSETFROM:-0700
TZOFFSETTO:-0800
TZNAME:PST
DTSTART:20261101T090000
END:STANDARD
BEGIN:DAYLIGHT
TZOFFSETFROM:-0800
TZOFFSETTO:-0700
TZNAME:PDT
DTSTART:20270314T100000
END:DAYLIGHT
BEGIN:STANDARD
TZOFFSETFROM:-0700
TZOFFSETTO:-0800
TZNAME:PST
DTSTART:20271107T090000
END:STANDARD
END:VTIMEZONE
BEGIN:VEVENT
DTSTART;TZID=America/Vancouver:20260911T110000
DTEND;TZID=America/Vancouver:20260911T120000
DTSTAMP:20260420T010124
CREATED:20260326T202414Z
LAST-MODIFIED:20260326T202414Z
UID:17655-1789124400-1789128000@www.centreforbrainhealth.ca
SUMMARY:Dr. John Lukens
DESCRIPTION:
URL:https://www.centreforbrainhealth.ca/events/dr-john-lukens/
LOCATION:Rudy North Lecture Theatre\, Djavad Mowafaghian Centre for Brain Health\, 2215 Wesbrook Mall\, Vancouver\, British Columbia\, V6T 1Z3\, Canada
CATEGORIES:Neuroscience Research Colloquium
END:VEVENT
BEGIN:VEVENT
DTSTART;TZID=America/Vancouver:20260918T110000
DTEND;TZID=America/Vancouver:20260918T120000
DTSTAMP:20260420T010124
CREATED:20260206T183003Z
LAST-MODIFIED:20260323T164741Z
UID:17381-1789729200-1789732800@www.centreforbrainhealth.ca
SUMMARY:Dr. Jonathan Pillow
DESCRIPTION:
URL:https://www.centreforbrainhealth.ca/events/dr-jonathan-pillow/
LOCATION:Rudy North Lecture Theatre\, Djavad Mowafaghian Centre for Brain Health\, 2215 Wesbrook Mall\, Vancouver\, British Columbia\, V6T 1Z3\, Canada
CATEGORIES:Neuroscience Research Colloquium
END:VEVENT
BEGIN:VEVENT
DTSTART;TZID=America/Vancouver:20260925T110000
DTEND;TZID=America/Vancouver:20260925T120000
DTSTAMP:20260420T010124
CREATED:20260326T202019Z
LAST-MODIFIED:20260326T202019Z
UID:17651-1790334000-1790337600@www.centreforbrainhealth.ca
SUMMARY:Dr. Jessica Bolton
DESCRIPTION:
URL:https://www.centreforbrainhealth.ca/events/dr-jessica-bolton/
LOCATION:Rudy North Lecture Theatre\, Djavad Mowafaghian Centre for Brain Health\, 2215 Wesbrook Mall\, Vancouver\, British Columbia\, V6T 1Z3\, Canada
CATEGORIES:Neuroscience Research Colloquium
END:VEVENT
END:VCALENDAR