BEGIN:VCALENDAR
VERSION:2.0
PRODID:-//Djavad Mowafaghian Centre for Brain Health | DMCBH - ECPv6.15.18//NONSGML v1.0//EN
CALSCALE:GREGORIAN
METHOD:PUBLISH
X-WR-CALNAME:Djavad Mowafaghian Centre for Brain Health | DMCBH
X-ORIGINAL-URL:https://www.centreforbrainhealth.ca
X-WR-CALDESC:Events for Djavad Mowafaghian Centre for Brain Health | DMCBH
REFRESH-INTERVAL;VALUE=DURATION:PT1H
X-Robots-Tag:noindex
X-PUBLISHED-TTL:PT1H
BEGIN:VTIMEZONE
TZID:America/Vancouver
BEGIN:DAYLIGHT
TZOFFSETFROM:-0800
TZOFFSETTO:-0700
TZNAME:PDT
DTSTART:20200308T100000
END:DAYLIGHT
BEGIN:STANDARD
TZOFFSETFROM:-0700
TZOFFSETTO:-0800
TZNAME:PST
DTSTART:20201101T090000
END:STANDARD
BEGIN:DAYLIGHT
TZOFFSETFROM:-0800
TZOFFSETTO:-0700
TZNAME:PDT
DTSTART:20210314T100000
END:DAYLIGHT
BEGIN:STANDARD
TZOFFSETFROM:-0700
TZOFFSETTO:-0800
TZNAME:PST
DTSTART:20211107T090000
END:STANDARD
BEGIN:DAYLIGHT
TZOFFSETFROM:-0800
TZOFFSETTO:-0700
TZNAME:PDT
DTSTART:20220313T100000
END:DAYLIGHT
BEGIN:STANDARD
TZOFFSETFROM:-0700
TZOFFSETTO:-0800
TZNAME:PST
DTSTART:20221106T090000
END:STANDARD
END:VTIMEZONE
BEGIN:VEVENT
DTSTART;TZID=America/Vancouver:20211203T110000
DTEND;TZID=America/Vancouver:20211203T120000
DTSTAMP:20260421T095344
CREATED:20211016T052702Z
LAST-MODIFIED:20211221T202047Z
UID:7202-1638529200-1638532800@www.centreforbrainhealth.ca
SUMMARY:The effects of maternal immune activation on early development in an outbred strain of mice
DESCRIPTION:Our lab is interested in the neural bases for social function\, and we use mouse models for diseases that have social deficits at their core. This talk will present our recent work looking at postnatal development\, juvenile behaviours and autophagy in a mouse model of perinatal infection. \nRudy North Lecture Theatre “Live” Screening\nZoom option if unable to attend in person: \n\nZoom link here (Click on “Join a meeting”)\nMeeting ID: 95496 072083\nPasscode: 072083
URL:https://www.centreforbrainhealth.ca/events/dr-tamara-franklin/
LOCATION:Rudy North Lecture Theatre\, Djavad Mowafaghian Centre for Brain Health\, 2215 Wesbrook Mall\, Vancouver\, British Columbia\, V6T 1Z3\, Canada
CATEGORIES:Neuroscience Research Colloquium
END:VEVENT
BEGIN:VEVENT
DTSTART;TZID=America/Vancouver:20211210T110000
DTEND;TZID=America/Vancouver:20211210T120000
DTSTAMP:20260421T095344
CREATED:20211019T222822Z
LAST-MODIFIED:20211221T202222Z
UID:7212-1639134000-1639137600@www.centreforbrainhealth.ca
SUMMARY:Unraveling microglial heterogeneity and stress responses in the embryonic hypothalamus
DESCRIPTION:Zoom option if unable to attend in person: \n\nZoom link here (Click on “Join a meeting”)\nMeeting ID: 95496 072083\nPasscode: 072083
URL:https://www.centreforbrainhealth.ca/events/dr-jessica-rosin/
LOCATION:Rudy North Lecture Theatre\, Djavad Mowafaghian Centre for Brain Health\, 2215 Wesbrook Mall\, Vancouver\, British Columbia\, V6T 1Z3\, Canada
CATEGORIES:Neuroscience Research Colloquium
END:VEVENT
BEGIN:VEVENT
DTSTART;TZID=America/Vancouver:20211217T110000
DTEND;TZID=America/Vancouver:20211217T120000
DTSTAMP:20260421T095344
CREATED:20211016T052429Z
LAST-MODIFIED:20211221T202501Z
UID:7201-1639738800-1639742400@www.centreforbrainhealth.ca
SUMMARY:Spontaneous activity\, memory replay\, and the default mode network
DESCRIPTION:Spontaneous activity accounts for most of what the brain does and is likely to be key for information processing in the brain\, but its function is still quite mysterious. Two key spontaneous activity processes are the Default Mode Network (DMN)\, a set of areas that are most markedly connected and active during behavioural idleness\, and memory replay\, the spontaneous reactivation of neural patterns occurring during experience. In the Mohajerani lab\, we test the hypothesis that the DMN plays a key role in memory replay processes. This theory\, if confirmed\, would bring important conceptual advances: to memory studies\, as it would provide a mechanism supporting the formation and consolidation of complex memory representations. I will explore this theory by our ongoing studies of neural activity over the whole mouse cortex in animals running memory tasks. \nZoom option if unable to attend in person: \n\nZoom link here (Click on “Join a meeting”)\nMeeting ID: 95496 072083\nPasscode: 072083
URL:https://www.centreforbrainhealth.ca/events/dr-majid-mohajerani/
LOCATION:Rudy North Lecture Theatre\, Djavad Mowafaghian Centre for Brain Health\, 2215 Wesbrook Mall\, Vancouver\, British Columbia\, V6T 1Z3\, Canada
CATEGORIES:Neuroscience Research Colloquium
END:VEVENT
END:VCALENDAR