BEGIN:VCALENDAR
VERSION:2.0
PRODID:-//Djavad Mowafaghian Centre for Brain Health | DMCBH - ECPv6.15.18//NONSGML v1.0//EN
CALSCALE:GREGORIAN
METHOD:PUBLISH
X-WR-CALNAME:Djavad Mowafaghian Centre for Brain Health | DMCBH
X-ORIGINAL-URL:https://www.centreforbrainhealth.ca
X-WR-CALDESC:Events for Djavad Mowafaghian Centre for Brain Health | DMCBH
REFRESH-INTERVAL;VALUE=DURATION:PT1H
X-Robots-Tag:noindex
X-PUBLISHED-TTL:PT1H
BEGIN:VTIMEZONE
TZID:America/Vancouver
BEGIN:DAYLIGHT
TZOFFSETFROM:-0800
TZOFFSETTO:-0700
TZNAME:PDT
DTSTART:20220313T100000
END:DAYLIGHT
BEGIN:STANDARD
TZOFFSETFROM:-0700
TZOFFSETTO:-0800
TZNAME:PST
DTSTART:20221106T090000
END:STANDARD
BEGIN:DAYLIGHT
TZOFFSETFROM:-0800
TZOFFSETTO:-0700
TZNAME:PDT
DTSTART:20230312T100000
END:DAYLIGHT
BEGIN:STANDARD
TZOFFSETFROM:-0700
TZOFFSETTO:-0800
TZNAME:PST
DTSTART:20231105T090000
END:STANDARD
BEGIN:DAYLIGHT
TZOFFSETFROM:-0800
TZOFFSETTO:-0700
TZNAME:PDT
DTSTART:20240310T100000
END:DAYLIGHT
BEGIN:STANDARD
TZOFFSETFROM:-0700
TZOFFSETTO:-0800
TZNAME:PST
DTSTART:20241103T090000
END:STANDARD
END:VTIMEZONE
BEGIN:VEVENT
DTSTART;TZID=America/Vancouver:20230925T153000
DTEND;TZID=America/Vancouver:20230925T170000
DTSTAMP:20260421T105039
CREATED:20230906T194413Z
LAST-MODIFIED:20230906T194413Z
UID:11776-1695655800-1695661200@www.centreforbrainhealth.ca
SUMMARY:Depressive and anxiety levels in a community sample: Examining the role of avoidance and reward-seeking behaviours
DESCRIPTION:Welcome back for a new season of MH&A rounds! \nThis month\, Ryan Tomm from the Todd lab will present “Depressive and anxiety levels in a community sample: Examining the role of avoidance and reward-seeking behaviours.” \nZoom link if unable to attend in person:\nhttps://ubc.zoom.us/j/5747966049?pwd=N1ppY2tUS3o4bk9vTkFSTzBna3k0Zz09 \nMeeting ID: 574 796 6049\nPasscode: 052059
URL:https://www.centreforbrainhealth.ca/events/depressive-and-anxiety-levels-in-a-community-sample-examining-the-role-of-avoidance-and-reward-seeking-behaviours/
LOCATION:DMCBH Room 3402\, 2215 Wesbrook Mall\, Vancouver\, British Columbia\, V6T 1Z3\, Canada
CATEGORIES:Monthly Monday Rounds in Mental Health and Addictions
ATTACH;FMTTYPE=image/jpeg:https://www.centreforbrainhealth.ca/wp-content/uploads/2023/09/Mental-Health-IRP-rounds-Sept-25-2023.jpeg
END:VEVENT
END:VCALENDAR