BEGIN:VCALENDAR
VERSION:2.0
PRODID:-//Djavad Mowafaghian Centre for Brain Health | DMCBH - ECPv6.15.18//NONSGML v1.0//EN
CALSCALE:GREGORIAN
METHOD:PUBLISH
X-WR-CALNAME:Djavad Mowafaghian Centre for Brain Health | DMCBH
X-ORIGINAL-URL:https://www.centreforbrainhealth.ca
X-WR-CALDESC:Events for Djavad Mowafaghian Centre for Brain Health | DMCBH
REFRESH-INTERVAL;VALUE=DURATION:PT1H
X-Robots-Tag:noindex
X-PUBLISHED-TTL:PT1H
BEGIN:VTIMEZONE
TZID:America/Vancouver
BEGIN:DAYLIGHT
TZOFFSETFROM:-0800
TZOFFSETTO:-0700
TZNAME:PDT
DTSTART:20210314T100000
END:DAYLIGHT
BEGIN:STANDARD
TZOFFSETFROM:-0700
TZOFFSETTO:-0800
TZNAME:PST
DTSTART:20211107T090000
END:STANDARD
BEGIN:DAYLIGHT
TZOFFSETFROM:-0800
TZOFFSETTO:-0700
TZNAME:PDT
DTSTART:20220313T100000
END:DAYLIGHT
BEGIN:STANDARD
TZOFFSETFROM:-0700
TZOFFSETTO:-0800
TZNAME:PST
DTSTART:20221106T090000
END:STANDARD
BEGIN:DAYLIGHT
TZOFFSETFROM:-0800
TZOFFSETTO:-0700
TZNAME:PDT
DTSTART:20230312T100000
END:DAYLIGHT
BEGIN:STANDARD
TZOFFSETFROM:-0700
TZOFFSETTO:-0800
TZNAME:PST
DTSTART:20231105T090000
END:STANDARD
END:VTIMEZONE
BEGIN:VEVENT
DTSTART;TZID=America/Vancouver:20221024T153000
DTEND;TZID=America/Vancouver:20221024T170000
DTSTAMP:20260422T060752
CREATED:20221018T000659Z
LAST-MODIFIED:20221018T000659Z
UID:9725-1666625400-1666630800@www.centreforbrainhealth.ca
SUMMARY:Investigating anticipatory and consummatory reward underlying anhedonia in mood disorders
DESCRIPTION:This month\, Cecilia Yu from the Chakrabarty Lab in the Department of Psychiatry will present on “Investigating anticipatory and consummatory reward underlying anhedonia in mood disorders.” \nZoom link if unable to attend in person:  \nhttps://ubc.zoom.us/j/5747966049?pwd=N1ppY2tUS3o4bk9vTkFSTzBna3k0Zz09 \nMeeting ID: 574 796 6049\nPasscode: 052059
URL:https://www.centreforbrainhealth.ca/events/investigating-anticipatory-and-consummatory-reward-underlying-anhedonia-in-mood-disorders/
LOCATION:DMCBH Room 3402\, 2215 Wesbrook Mall\, Vancouver\, British Columbia\, V6T 1Z3\, Canada
CATEGORIES:Monthly Monday Rounds in Mental Health and Addictions
ATTACH;FMTTYPE=image/jpeg:https://www.centreforbrainhealth.ca/wp-content/uploads/2022/10/Mental-Health-IRP-rounds-Oct-24-2022-1.jpg
END:VEVENT
END:VCALENDAR