BEGIN:VCALENDAR
VERSION:2.0
PRODID:-//Djavad Mowafaghian Centre for Brain Health | DMCBH - ECPv6.15.18//NONSGML v1.0//EN
CALSCALE:GREGORIAN
METHOD:PUBLISH
X-WR-CALNAME:Djavad Mowafaghian Centre for Brain Health | DMCBH
X-ORIGINAL-URL:https://www.centreforbrainhealth.ca
X-WR-CALDESC:Events for Djavad Mowafaghian Centre for Brain Health | DMCBH
REFRESH-INTERVAL;VALUE=DURATION:PT1H
X-Robots-Tag:noindex
X-PUBLISHED-TTL:PT1H
BEGIN:VTIMEZONE
TZID:America/Vancouver
BEGIN:DAYLIGHT
TZOFFSETFROM:-0800
TZOFFSETTO:-0700
TZNAME:PDT
DTSTART:20210314T100000
END:DAYLIGHT
BEGIN:STANDARD
TZOFFSETFROM:-0700
TZOFFSETTO:-0800
TZNAME:PST
DTSTART:20211107T090000
END:STANDARD
BEGIN:DAYLIGHT
TZOFFSETFROM:-0800
TZOFFSETTO:-0700
TZNAME:PDT
DTSTART:20220313T100000
END:DAYLIGHT
BEGIN:STANDARD
TZOFFSETFROM:-0700
TZOFFSETTO:-0800
TZNAME:PST
DTSTART:20221106T090000
END:STANDARD
BEGIN:DAYLIGHT
TZOFFSETFROM:-0800
TZOFFSETTO:-0700
TZNAME:PDT
DTSTART:20230312T100000
END:DAYLIGHT
BEGIN:STANDARD
TZOFFSETFROM:-0700
TZOFFSETTO:-0800
TZNAME:PST
DTSTART:20231105T090000
END:STANDARD
END:VTIMEZONE
BEGIN:VEVENT
DTSTART;TZID=America/Vancouver:20220627T153000
DTEND;TZID=America/Vancouver:20220627T170000
DTSTAMP:20260420T130011
CREATED:20220620T192047Z
LAST-MODIFIED:20220620T192427Z
UID:9132-1656343800-1656349200@www.centreforbrainhealth.ca
SUMMARY:How emotional context influences memory for neutral scene details in a non-clinical sample of young adults: Implications for trauma-related disorders
DESCRIPTION:This month\, Chantelle Cocquyt from the Palombo Lab in the Department of Psychology will present on “How emotional context influences memory for neutral scene details in a non-clinical sample of young adults: Implications for trauma-related disorders.” \nZoom link if unable to attend in person:  \nhttps://ubc.zoom.us/j/5747966049?pwd=N1ppY2tUS3o4bk9vTkFSTzBna3k0Zz09 \nMeeting ID: 574 796 6049\nPasscode: 052059
URL:https://www.centreforbrainhealth.ca/events/how-emotional-context-influences-memory-for-neutral-scene-details-in-a-non-clinical-sample-of-young-adults/
LOCATION:DMCBH Room 3402\, 2215 Wesbrook Mall\, Vancouver\, British Columbia\, V6T 1Z3\, Canada
CATEGORIES:Monthly Monday Rounds in Mental Health and Addictions
ATTACH;FMTTYPE=image/jpeg:https://www.centreforbrainhealth.ca/wp-content/uploads/2022/06/Mental-Health-IRP-rounds-June-27.jpg
END:VEVENT
END:VCALENDAR