BEGIN:VCALENDAR
VERSION:2.0
PRODID:-//Djavad Mowafaghian Centre for Brain Health | DMCBH - ECPv6.15.18//NONSGML v1.0//EN
CALSCALE:GREGORIAN
METHOD:PUBLISH
X-WR-CALNAME:Djavad Mowafaghian Centre for Brain Health | DMCBH
X-ORIGINAL-URL:https://www.centreforbrainhealth.ca
X-WR-CALDESC:Events for Djavad Mowafaghian Centre for Brain Health | DMCBH
REFRESH-INTERVAL;VALUE=DURATION:PT1H
X-Robots-Tag:noindex
X-PUBLISHED-TTL:PT1H
BEGIN:VTIMEZONE
TZID:UTC
BEGIN:STANDARD
TZOFFSETFROM:+0000
TZOFFSETTO:+0000
TZNAME:UTC
DTSTART:20210101T000000
END:STANDARD
END:VTIMEZONE
BEGIN:VEVENT
DTSTART;TZID=UTC:20220124T153000
DTEND;TZID=UTC:20220124T170000
DTSTAMP:20260422T195640
CREATED:20220107T201224Z
LAST-MODIFIED:20220415T003608Z
UID:7959-1643038200-1643043600@www.centreforbrainhealth.ca
SUMMARY:Linking animal models and mood disorder symptoms through cortico-striatally regulated avoidance and reward-seeking behaviour
DESCRIPTION:Ryan Tomm and Brandon Forys from Rebecca Todd’s lab will be presenting findings from a collaborative project between researchers in the Mental Health and Addictions integrated research program:  “Linking animal models and mood disorder symptoms through cortico-striatally regulated avoidance and reward-seeking behaviour” \nOnline via Zoom: \nMeeting ID: 574 796 6049\nPasscode: 052059
URL:https://www.centreforbrainhealth.ca/events/linking-animal-models-and-mood-disorder-symptoms-through-cortico-striatally-regulated-avoidance-and-reward-seeking-behaviour/
LOCATION:Online
CATEGORIES:Monthly Monday Rounds in Mental Health and Addictions
END:VEVENT
END:VCALENDAR